BEGIN:VCALENDAR
VERSION:2.0
PRODID:spatie/icalendar-generator
DESCRIPTION:Veranstaltungen von Hospizverein Deggendorf e.V.
X-WR-CALDESC:Veranstaltungen von Hospizverein Deggendorf e.V.
REFRESH-INTERVAL;VALUE=DURATION:PT1440M
X-PUBLISHED-TTL:PT1440M
BEGIN:VTIMEZONE
TZID:Europe/Berlin
BEGIN:DAYLIGHT
DTSTART:20230326T020000Z
TZOFFSETFROM:+0100
TZOFFSETTO:+0200
END:DAYLIGHT
BEGIN:STANDARD
DTSTART:20231029T030000Z
TZOFFSETFROM:+0200
TZOFFSETTO:+0100
END:STANDARD
END:VTIMEZONE
BEGIN:VTIMEZONE
TZID:UTC
BEGIN:STANDARD
DTSTART:20250728T101848Z
TZOFFSETFROM:+0000
TZOFFSETTO:+0000
END:STANDARD
END:VTIMEZONE
BEGIN:VEVENT
UID:1685-165
DTSTAMP:20260424T101848Z
SUMMARY:Urlaubszeit
LOCATION:
ORGANIZER;CN=Conny Habereder:MAILTO:corneliahab@aol.com
DTSTART;TZID=Europe/Berlin:20230829T120000
DTEND;TZID=Europe/Berlin:20230829T180000
X-ALT-DESC;FMTTYPE=TEXT/HTML:Die Verwaltung des Hospizvereins Deggendorf is
 t im Urlaub. Ab 12.09.2023 ist das Büro wieder Dienstags von 12.00 - 18.0
 0 Uhr besetzt. Unsere Koordinatoren und Hospizbegleiter sind weiter für S
 ie im Einsatz.
CATEGORIES:General,  Veranstaltungen
URL;VALUE=URI:https://www.hospizverein-deggendorf.com/mc-events/urlaubszeit
 -4/
METHOD:PUBLISH
END:VEVENT
END:VCALENDAR