BEGIN:VCALENDAR
VERSION:2.0
PRODID:spatie/icalendar-generator
DESCRIPTION:Veranstaltungen von Hospizverein Deggendorf e.V.
X-WR-CALDESC:Veranstaltungen von Hospizverein Deggendorf e.V.
REFRESH-INTERVAL;VALUE=DURATION:PT1440M
X-PUBLISHED-TTL:PT1440M
BEGIN:VTIMEZONE
TZID:Europe/Berlin
BEGIN:STANDARD
DTSTART:20241027T030000Z
TZOFFSETFROM:+0200
TZOFFSETTO:+0100
END:STANDARD
BEGIN:DAYLIGHT
DTSTART:20250330T020000Z
TZOFFSETFROM:+0100
TZOFFSETTO:+0200
END:DAYLIGHT
END:VTIMEZONE
BEGIN:VTIMEZONE
TZID:UTC
BEGIN:STANDARD
DTSTART:20250728T013825Z
TZOFFSETFROM:+0000
TZOFFSETTO:+0000
END:STANDARD
END:VTIMEZONE
BEGIN:VEVENT
UID:1818-286
DTSTAMP:20260424T013825Z
SUMMARY:Trauer braucht ein Du  -  Informationsabend für eine geschlossene 
 Trauergruppe
LOCATION:
ORGANIZER;CN=Conny Habereder:MAILTO:corneliahab@aol.com
DTSTART;TZID=Europe/Berlin:20250305T190000
DTEND;TZID=Europe/Berlin:20250305T200000
X-ALT-DESC;FMTTYPE=TEXT/HTML:An diesem Abend erhalten Sie grundlegende Info
 rmationen über eine Trauergruppe. Der Informationsabend ist offen für Be
 troffene und Interessierte.Die Trauergruppe\, ausschließlich für von Tra
 uer Betroffene\, trifft sich nach dem Informationsabend alle 14 Tage von 1
 9.00 – 21.00 Uhr. Ort: 94557 Niederalteich\, St. Ursula Hospiz\, St.-Urs
 ula Weg 5 Referenten Manfred Ketzer Tanja Zettlmeier
CATEGORIES:Trauergruppe,  Veranstaltungen
URL;VALUE=URI:https://www.hospizverein-deggendorf.com/mc-events/trauer-brau
 cht-ein-du-informationsabend-fuer-eine-geschlossene-trauergruppe/
METHOD:PUBLISH
END:VEVENT
END:VCALENDAR