BEGIN:VCALENDAR
VERSION:2.0
PRODID:spatie/icalendar-generator
DESCRIPTION:Veranstaltungen von Hospizverein Deggendorf e.V.
X-WR-CALDESC:Veranstaltungen von Hospizverein Deggendorf e.V.
REFRESH-INTERVAL;VALUE=DURATION:PT1440M
X-PUBLISHED-TTL:PT1440M
BEGIN:VTIMEZONE
TZID:Europe/Berlin
BEGIN:DAYLIGHT
DTSTART:20210328T020000Z
TZOFFSETFROM:+0100
TZOFFSETTO:+0200
END:DAYLIGHT
BEGIN:STANDARD
DTSTART:20211031T030000Z
TZOFFSETFROM:+0200
TZOFFSETTO:+0100
END:STANDARD
END:VTIMEZONE
BEGIN:VTIMEZONE
TZID:UTC
BEGIN:STANDARD
DTSTART:20250727T105733Z
TZOFFSETFROM:+0000
TZOFFSETTO:+0000
END:STANDARD
END:VTIMEZONE
BEGIN:VEVENT
UID:1531-29
DTSTAMP:20260423T105733Z
SUMMARY:Supervision für ehrenamtliche Begleiter
LOCATION:Hospiz St. Ursula St. Ursula Weg 5  Niederalteich  94557
ORGANIZER;CN=Conny Habereder:MAILTO:corneliahab@aol.com
DTSTART;TZID=Europe/Berlin:20210920T190000
DTEND;TZID=Europe/Berlin:20210920T200000
X-ALT-DESC;FMTTYPE=TEXT/HTML:<p>Es finden regelmäßige Treffen im Hospizra
 um oder via Zoom der ehrenamtlichen Begleiter mit Supervision statt.<br />
 \nWir bitten um regelmäßige Teilnahme!</p>\n
CATEGORIES:General,  Veranstaltungen
URL;VALUE=URI:https://www.hospizverein-deggendorf.com/mc-events/supervision
 -fuer-ehrenamtliche-begleiter-9/
METHOD:PUBLISH
END:VEVENT
END:VCALENDAR