BEGIN:VCALENDAR
VERSION:2.0
PRODID:spatie/icalendar-generator
DESCRIPTION:Veranstaltungen von Hospizverein Deggendorf e.V.
X-WR-CALDESC:Veranstaltungen von Hospizverein Deggendorf e.V.
REFRESH-INTERVAL;VALUE=DURATION:PT1440M
X-PUBLISHED-TTL:PT1440M
BEGIN:VTIMEZONE
TZID:Europe/Berlin
BEGIN:STANDARD
DTSTART:20251026T030000Z
TZOFFSETFROM:+0200
TZOFFSETTO:+0100
END:STANDARD
BEGIN:DAYLIGHT
DTSTART:20260329T020000Z
TZOFFSETFROM:+0100
TZOFFSETTO:+0200
END:DAYLIGHT
BEGIN:STANDARD
DTSTART:20261025T030000Z
TZOFFSETFROM:+0200
TZOFFSETTO:+0100
END:STANDARD
END:VTIMEZONE
BEGIN:VTIMEZONE
TZID:UTC
BEGIN:STANDARD
DTSTART:20250723T195123Z
TZOFFSETFROM:+0000
TZOFFSETTO:+0000
END:STANDARD
END:VTIMEZONE
BEGIN:VEVENT
UID:1970-419
DTSTAMP:20260419T195123Z
SUMMARY:Mitgliederversammlung
LOCATION:
ORGANIZER;CN=Conny Habereder:MAILTO:corneliahab@aol.com
DTSTART;TZID=Europe/Berlin:20260518T190000
DTEND;TZID=Europe/Berlin:20260518T200000
X-ALT-DESC;FMTTYPE=TEXT/HTML:Alle Mitglieder des Hospizvereins sind recht h
 erzlich eingeladen zur Mitgliederversammlung mit Neuwahl der Vorstandschaf
 t. Eine Einladung erfolgt noch. Wir hoffen auf Ihre Teilnahme um gemeinsam
  die Zukunft des Vereins zu bestimmen.
CATEGORIES:General,  Veranstaltungen
URL;VALUE=URI:https://www.hospizverein-deggendorf.com/mc-events/mitgliederv
 ersammlung-5/
METHOD:PUBLISH
END:VEVENT
END:VCALENDAR