BEGIN:VCALENDAR
VERSION:2.0
PRODID:spatie/icalendar-generator
DESCRIPTION:Veranstaltungen von Hospizverein Deggendorf e.V.
X-WR-CALDESC:Veranstaltungen von Hospizverein Deggendorf e.V.
REFRESH-INTERVAL;VALUE=DURATION:PT1440M
X-PUBLISHED-TTL:PT1440M
BEGIN:VTIMEZONE
TZID:Europe/Berlin
BEGIN:STANDARD
DTSTART:20231029T030000Z
TZOFFSETFROM:+0200
TZOFFSETTO:+0100
END:STANDARD
BEGIN:DAYLIGHT
DTSTART:20240331T020000Z
TZOFFSETFROM:+0100
TZOFFSETTO:+0200
END:DAYLIGHT
END:VTIMEZONE
BEGIN:VTIMEZONE
TZID:UTC
BEGIN:STANDARD
DTSTART:20250724T085430Z
TZOFFSETFROM:+0000
TZOFFSETTO:+0000
END:STANDARD
END:VTIMEZONE
BEGIN:VEVENT
UID:1734-207
DTSTAMP:20260420T085430Z
SUMMARY:Messe SENIORita in Deggendorf
LOCATION:
ORGANIZER;CN=Conny Habereder:MAILTO:corneliahab@aol.com
DTSTART;TZID=Europe/Berlin;VALUE=DATE:20240302
DTEND;TZID=Europe/Berlin;VALUE=DATE:20240303
X-ALT-DESC;FMTTYPE=TEXT/HTML:Wir sind mit einem Stand vertreten bei der Mes
 se für Menschen ab 50 SENIORita in Deggendorf – die Messe in den Deggen
 dorfer Stadthallen für die besten Jahre im Leben. Hier erwarten Sie am Sa
 mstag\, 2. März 2024\, erneut wertvolle Infos\, wie Sie im Alter möglich
 st lange eigenverantwortlich und selbstständig leben können. Denn mal eh
 rlich\, wer&amp;hellip\;
CATEGORIES:Veranstaltungen,  General
URL;VALUE=URI:https://www.hospizverein-deggendorf.com/mc-events/messe-senio
 rita-in-deggendorf/
METHOD:PUBLISH
END:VEVENT
END:VCALENDAR