BEGIN:VCALENDAR
VERSION:2.0
PRODID:spatie/icalendar-generator
DESCRIPTION:Veranstaltungen von Hospizverein Deggendorf e.V.
X-WR-CALDESC:Veranstaltungen von Hospizverein Deggendorf e.V.
REFRESH-INTERVAL;VALUE=DURATION:PT1440M
X-PUBLISHED-TTL:PT1440M
BEGIN:VTIMEZONE
TZID:Europe/Berlin
BEGIN:STANDARD
DTSTART:20231029T030000Z
TZOFFSETFROM:+0200
TZOFFSETTO:+0100
END:STANDARD
BEGIN:DAYLIGHT
DTSTART:20240331T020000Z
TZOFFSETFROM:+0100
TZOFFSETTO:+0200
END:DAYLIGHT
END:VTIMEZONE
BEGIN:VTIMEZONE
TZID:UTC
BEGIN:STANDARD
DTSTART:20250724T090945Z
TZOFFSETFROM:+0000
TZOFFSETTO:+0000
END:STANDARD
END:VTIMEZONE
BEGIN:VEVENT
UID:1689-169
DTSTAMP:20260420T090945Z
SUMMARY:Lesung mit Hr. Kristel - Hört nicht auf\, mit mir zu lachen!
LOCATION:
ORGANIZER;CN=Conny Habereder:MAILTO:corneliahab@aol.com
DTSTART;TZID=Europe/Berlin:20240126T170000
DTEND;TZID=Europe/Berlin:20240126T190000
X-ALT-DESC;FMTTYPE=TEXT/HTML:Annekathrin attackieren urplötzlich heftig Sc
 hwindel und Übelkeit. Eine Unpässlichkeit\, glaubt sie. Da die Beschwerd
 en nicht vergehen\, muss sie ins Krankenhaus. Die Diagnose schockt: Krebs.
  Von einem Moment auf den anderen stellt diese ihr Leben\, das ihres Gatte
 n und das der Töchter auf den Kopf. Und was nun? Annekathrin\, eine Krank
 enschwester auf einer Palliativstation\, hat Lungenkrebs.&amp;hellip\;
CATEGORIES:Akademie,  Veranstaltungen
URL;VALUE=URI:https://www.hospizverein-deggendorf.com/mc-events/lesung-mit-
 hr-kristel-hoert-nicht-auf-mit-mir-zu-lachen/
METHOD:PUBLISH
END:VEVENT
END:VCALENDAR