BEGIN:VCALENDAR
VERSION:2.0
PRODID:spatie/icalendar-generator
DESCRIPTION:Veranstaltungen von Hospizverein Deggendorf e.V.
X-WR-CALDESC:Veranstaltungen von Hospizverein Deggendorf e.V.
REFRESH-INTERVAL;VALUE=DURATION:PT1440M
X-PUBLISHED-TTL:PT1440M
BEGIN:VTIMEZONE
TZID:Europe/Berlin
BEGIN:STANDARD
DTSTART:20221030T030000Z
TZOFFSETFROM:+0200
TZOFFSETTO:+0100
END:STANDARD
BEGIN:DAYLIGHT
DTSTART:20230326T020000Z
TZOFFSETFROM:+0100
TZOFFSETTO:+0200
END:DAYLIGHT
END:VTIMEZONE
BEGIN:VTIMEZONE
TZID:UTC
BEGIN:STANDARD
DTSTART:20250724T090847Z
TZOFFSETFROM:+0000
TZOFFSETTO:+0000
END:STANDARD
END:VTIMEZONE
BEGIN:VEVENT
UID:1654-136
DTSTAMP:20260420T090847Z
SUMMARY:KEB - Sterbeprozesse
LOCATION:
ORGANIZER;CN=Conny Habereder:MAILTO:corneliahab@aol.com
DTSTART;TZID=Europe/Berlin:20230321T190000
DTEND;TZID=Europe/Berlin:20230321T200000
X-ALT-DESC;FMTTYPE=TEXT/HTML:Angst vor dem Sterben haben fast alle\, die St
 erbenden ebenso wie die Angehörigen. Es kann hilfreich sein zu wissen\, w
 as kommen kann\, wie der Verlauf von Sterbeprozessen vonstattengeht\, dami
 t man sich darauf einstellen kann und bei bestimmten Symptomen oder Verän
 derungen nicht ohnmächtig dasteht. Kosten: auf Spendenbasis Referent/in: 
 Hildegard Plaschzyk Mitveranstalter: Hospizverein Deggendorf e.V.
CATEGORIES:General,  Veranstaltungen
URL;VALUE=URI:https://www.hospizverein-deggendorf.com/mc-events/keb-sterbep
 rozesse/
METHOD:PUBLISH
END:VEVENT
END:VCALENDAR