BEGIN:VCALENDAR
VERSION:2.0
PRODID:spatie/icalendar-generator
DESCRIPTION:Veranstaltungen von Hospizverein Deggendorf e.V.
X-WR-CALDESC:Veranstaltungen von Hospizverein Deggendorf e.V.
REFRESH-INTERVAL;VALUE=DURATION:PT1440M
X-PUBLISHED-TTL:PT1440M
BEGIN:VTIMEZONE
TZID:Europe/Berlin
BEGIN:STANDARD
DTSTART:20241027T030000Z
TZOFFSETFROM:+0200
TZOFFSETTO:+0100
END:STANDARD
BEGIN:DAYLIGHT
DTSTART:20250330T020000Z
TZOFFSETFROM:+0100
TZOFFSETTO:+0200
END:DAYLIGHT
BEGIN:STANDARD
DTSTART:20251026T030000Z
TZOFFSETFROM:+0200
TZOFFSETTO:+0100
END:STANDARD
END:VTIMEZONE
BEGIN:VTIMEZONE
TZID:UTC
BEGIN:STANDARD
DTSTART:20250724T105350Z
TZOFFSETFROM:+0000
TZOFFSETTO:+0000
END:STANDARD
END:VTIMEZONE
BEGIN:VEVENT
UID:1890-306
DTSTAMP:20260420T105350Z
SUMMARY:Einladung zum Sommerfest im St. Ursula Hospiz
LOCATION:
ORGANIZER;CN=Conny Habereder:MAILTO:corneliahab@aol.com
DTSTART;TZID=Europe/Berlin;VALUE=DATE:20250706
DTEND;TZID=Europe/Berlin;VALUE=DATE:20250707
X-ALT-DESC;FMTTYPE=TEXT/HTML:Herzliche Einladung! Kommen Sie und feiern Sie
  mit uns. Für Unterhaltung\, Speis und Trank wird gesorgt. Der Markt der 
 Kunsthandwerker ist immer sehenswert und es findet sich fast immer etwas d
 as man gerne mit nimmt.
CATEGORIES:Hospiz St. Ursula,  Veranstaltungen
URL;VALUE=URI:https://www.hospizverein-deggendorf.com/mc-events/einladung-z
 um-sommerfest-im-st-ursula-hospiz/
METHOD:PUBLISH
END:VEVENT
END:VCALENDAR