BEGIN:VCALENDAR
VERSION:2.0
PRODID:spatie/icalendar-generator
DESCRIPTION:Veranstaltungen von Hospizverein Deggendorf e.V.
X-WR-CALDESC:Veranstaltungen von Hospizverein Deggendorf e.V.
REFRESH-INTERVAL;VALUE=DURATION:PT1440M
X-PUBLISHED-TTL:PT1440M
BEGIN:VTIMEZONE
TZID:Europe/Berlin
BEGIN:DAYLIGHT
DTSTART:20230326T020000Z
TZOFFSETFROM:+0100
TZOFFSETTO:+0200
END:DAYLIGHT
BEGIN:STANDARD
DTSTART:20231029T030000Z
TZOFFSETFROM:+0200
TZOFFSETTO:+0100
END:STANDARD
BEGIN:DAYLIGHT
DTSTART:20240331T020000Z
TZOFFSETFROM:+0100
TZOFFSETTO:+0200
END:DAYLIGHT
END:VTIMEZONE
BEGIN:VTIMEZONE
TZID:UTC
BEGIN:STANDARD
DTSTART:20250725T121759Z
TZOFFSETFROM:+0000
TZOFFSETTO:+0000
END:STANDARD
END:VTIMEZONE
BEGIN:VEVENT
UID:1709-188
DTSTAMP:20260421T121759Z
SUMMARY:Benefizkonzert Niederbayerisches Ärzteorchester
LOCATION:
ORGANIZER;CN=Conny Habereder:MAILTO:corneliahab@aol.com
DTSTART;TZID=Europe/Berlin:20231015T160000
DTEND;TZID=Europe/Berlin:20231015T180000
X-ALT-DESC;FMTTYPE=TEXT/HTML:Das Orchester ist eine Vereinigung musiklieben
 der und musizierender Ärztinnen und Ärzte\, Angehöriger anderer Heilber
 ufe\, Familienangehöriger sowie einiger Freunde aus dem gesamten niederba
 yerischen Raum. Es wurde 1991 in Hengersberg gegründet\, ist ein Kammeror
 chester (Streicher und einige Bläser) und derzeit mit 15 – 20 Aktiven d
 em Landesverband Bayerischer Liebhaberorchester eingegliedert. Künstleris
 cher Leiter ist seit Herbst 2010 Vit&amp;hellip\;
CATEGORIES:Hospiz St. Ursula,  Veranstaltungen
URL;VALUE=URI:https://www.hospizverein-deggendorf.com/mc-events/benefizkonz
 ert-niederbayerisches-aerzteorchester-2/
METHOD:PUBLISH
END:VEVENT
END:VCALENDAR