BEGIN:VCALENDAR
VERSION:2.0
PRODID:spatie/icalendar-generator
DESCRIPTION:Veranstaltungen von Hospizverein Deggendorf e.V.
X-WR-CALDESC:Veranstaltungen von Hospizverein Deggendorf e.V.
REFRESH-INTERVAL;VALUE=DURATION:PT1440M
X-PUBLISHED-TTL:PT1440M
BEGIN:VTIMEZONE
TZID:Europe/Berlin
BEGIN:STANDARD
DTSTART:20251026T030000Z
TZOFFSETFROM:+0200
TZOFFSETTO:+0100
END:STANDARD
BEGIN:DAYLIGHT
DTSTART:20260329T020000Z
TZOFFSETFROM:+0100
TZOFFSETTO:+0200
END:DAYLIGHT
BEGIN:STANDARD
DTSTART:20261025T030000Z
TZOFFSETFROM:+0200
TZOFFSETTO:+0100
END:STANDARD
END:VTIMEZONE
BEGIN:VTIMEZONE
TZID:UTC
BEGIN:STANDARD
DTSTART:20250728T104551Z
TZOFFSETFROM:+0000
TZOFFSETTO:+0000
END:STANDARD
END:VTIMEZONE
BEGIN:VEVENT
UID:1941-392
DTSTAMP:20260424T104551Z
SUMMARY:Aufbaukurs ehrenamtliche Hospizbegleiter 3
LOCATION:
ORGANIZER;CN=Conny Habereder:MAILTO:corneliahab@aol.com
DTSTART;TZID=Europe/Berlin:20260612T170000
DTEND;TZID=Europe/Berlin:20260612T203000
X-ALT-DESC;FMTTYPE=TEXT/HTML:Für alle die den Grundkurs schon absolviert h
 aben. Aufbaukurs: 75 UE Eigene Motivation für die Hospizarbeit Verbale un
 d nonverbale Kommunikation mit schwerstkranken und sterbenden Menschen sow
 ie Angehörigen\; Wahrnehmung und aktives Zuhören Grundhaltung in der Beg
 leitung Eigene Endlichkeit Nähe und Distanz Psychische und soziale Aspekt
 e in der Begleitung Spiritualität und spirituelle Begleitung Trauer und T
 rauerbegleitung Rituale&amp;hellip\;
CATEGORIES:Weiterbildung Akademie,  Veranstaltungen
URL;VALUE=URI:https://www.hospizverein-deggendorf.com/mc-events/aufbaukurs-
 ehrenamtliche-hospizbegleiter-3-2/
METHOD:PUBLISH
END:VEVENT
END:VCALENDAR